BEGIN:VCALENDAR
VERSION:2.0
PRODID:-//Hunt Valley Business Forum - ECPv6.15.20//NONSGML v1.0//EN
CALSCALE:GREGORIAN
METHOD:PUBLISH
X-ORIGINAL-URL:https://www.hvbf.org
X-WR-CALDESC:Events for Hunt Valley Business Forum
REFRESH-INTERVAL;VALUE=DURATION:PT1H
X-Robots-Tag:noindex
X-PUBLISHED-TTL:PT1H
BEGIN:VTIMEZONE
TZID:America/New_York
BEGIN:DAYLIGHT
TZOFFSETFROM:-0500
TZOFFSETTO:-0400
TZNAME:EDT
DTSTART:20250309T070000
END:DAYLIGHT
BEGIN:STANDARD
TZOFFSETFROM:-0400
TZOFFSETTO:-0500
TZNAME:EST
DTSTART:20251102T060000
END:STANDARD
BEGIN:DAYLIGHT
TZOFFSETFROM:-0500
TZOFFSETTO:-0400
TZNAME:EDT
DTSTART:20260308T070000
END:DAYLIGHT
BEGIN:STANDARD
TZOFFSETFROM:-0400
TZOFFSETTO:-0500
TZNAME:EST
DTSTART:20261101T060000
END:STANDARD
BEGIN:DAYLIGHT
TZOFFSETFROM:-0500
TZOFFSETTO:-0400
TZNAME:EDT
DTSTART:20270314T070000
END:DAYLIGHT
BEGIN:STANDARD
TZOFFSETFROM:-0400
TZOFFSETTO:-0500
TZNAME:EST
DTSTART:20271107T060000
END:STANDARD
END:VTIMEZONE
BEGIN:VEVENT
DTSTART;TZID=America/New_York:20260312T083000
DTEND;TZID=America/New_York:20260312T103000
DTSTAMP:20260419T160636
CREATED:20251124T212248Z
LAST-MODIFIED:20260223T154412Z
UID:30000126-1773304200-1773311400@www.hvbf.org
SUMMARY:2026 HVBF Development Update
DESCRIPTION:The Hunt Valley Business Forum Presents \n2026 DEVELOPMENT UPDATE \nJoin the Hunt Valley Business Forum for breakfast as our panel of local developers discuss upcoming development projects in District 3. \nFEATURING \n\n\n\n \n \n \n \n\n\n\nBill Holzman\nSt. John Properties\n\n\nEric Walter\nGreenberg Gibbons\n\n\nPaul Obrecht\nBlue & Obrecht\n\n\nMark Renbaum\nMLR Partners\n\n\n\n\n\n  \n> Click Here to Register < \nMembers: $45   |  Non-Members: $65 \n  \nEVENT DETAILS \nMarch 12\, 2026 \n8:30 AM to 10:30 AM \n \nExecutive Plaza \n11350 McCormick RoadHunt Valley\, MD 21031  \n  \nDon’t Miss Out – Click to Register! \n  \nThank You To Our Venue SponsorHill Management \n \n  \nRegister Today! \n 
URL:https://www.hvbf.org/event/2026-hvbf-development-update/
LOCATION:Executive Plaza\, 11350 McCormick Road\, Hunt Valley\, MD\, 21031\, United States
ATTACH;FMTTYPE=image/png:https://www.hvbf.org/wp-content/uploads/2025/11/Screenshot-2026-02-21-at-9.34.18_AM.png
END:VEVENT
END:VCALENDAR