BEGIN:VCALENDAR
VERSION:2.0
PRODID:-//Hunt Valley Business Forum - ECPv6.15.20//NONSGML v1.0//EN
CALSCALE:GREGORIAN
METHOD:PUBLISH
X-ORIGINAL-URL:https://www.hvbf.org
X-WR-CALDESC:Events for Hunt Valley Business Forum
REFRESH-INTERVAL;VALUE=DURATION:PT1H
X-Robots-Tag:noindex
X-PUBLISHED-TTL:PT1H
BEGIN:VTIMEZONE
TZID:America/New_York
BEGIN:DAYLIGHT
TZOFFSETFROM:-0500
TZOFFSETTO:-0400
TZNAME:EDT
DTSTART:20250309T070000
END:DAYLIGHT
BEGIN:STANDARD
TZOFFSETFROM:-0400
TZOFFSETTO:-0500
TZNAME:EST
DTSTART:20251102T060000
END:STANDARD
BEGIN:DAYLIGHT
TZOFFSETFROM:-0500
TZOFFSETTO:-0400
TZNAME:EDT
DTSTART:20260308T070000
END:DAYLIGHT
BEGIN:STANDARD
TZOFFSETFROM:-0400
TZOFFSETTO:-0500
TZNAME:EST
DTSTART:20261101T060000
END:STANDARD
BEGIN:DAYLIGHT
TZOFFSETFROM:-0500
TZOFFSETTO:-0400
TZNAME:EDT
DTSTART:20270314T070000
END:DAYLIGHT
BEGIN:STANDARD
TZOFFSETFROM:-0400
TZOFFSETTO:-0500
TZNAME:EST
DTSTART:20271107T060000
END:STANDARD
END:VTIMEZONE
BEGIN:VEVENT
DTSTART;TZID=America/New_York:20260407T163000
DTEND;TZID=America/New_York:20260407T183000
DTSTAMP:20260420T070753
CREATED:20251124T213650Z
LAST-MODIFIED:20260324T152433Z
UID:30000127-1775579400-1775586600@www.hvbf.org
SUMMARY:2026 Annual Member Meeting
DESCRIPTION:2026 ANNUAL MEMBER MEETING\nApril 7\, 2026\n4:30 – 6:30 PM \n\n\n\n\nRegister Online>> \nThe Annual Meeting is a Members Only Event\nNo Cost to Attend – Registration Required \n\n\nEach year HVBF invites members to meet the Board of Directors\, Executive Director\, Committee Chairs and to network with members and receive an update on prior year summaries\, treasurer’s report and current state of HVBF. \nThe Public Policy Committee has been very active and will summarize the SMART Goals for 2026 with safety\, transportation and legislation that is and will impact businesses in the area.  \nThe Membership\, Events\, Roundtable and Marketing Committees will provide updates on new member growth\, sponsor growth\, retention rates and upcoming events for the 2025 calendar. Member only facilitated roundtables continue to be a success and will continue for the second year!  \nHVBF Member of the Year 2025 will be announced!\nBeer\, wine\, heavy hors d’oeuvres will be served\nThe event will start with networking followed by a short presentation and Q&A then more networking!  \nWe encourage ALL members to attend! \nWHEN \n\nTuesday\, April 7\, 2026 \nTIME\n4:30 – 6:30 PM \nLOCATION\nKelly Benefits\n1 Kelly Way\nSparks Glencoe\, MD 21152 \nRegistration is FREE for Current\, Active\, Pending Renewal Members \nIf your membership if overdue by 30 days or more\, you are now considered Lapsed. To become an active member in good standing and to be able to register for this and future events\, please have your Bundle Coordinator log into your membership profile HERE and complete membership payment via the Membership Account tab.   \nIf you do not know who your Bundle Coordinator is or if they are no longer with your company\, please email HVBF’s Executive Director HERE for assistance.  \nThank You to Our 2026 Host & Sponsor
URL:https://www.hvbf.org/event/2026-annual-member-meeting/
LOCATION:MD
ATTACH;FMTTYPE=image/png:https://www.hvbf.org/wp-content/uploads/2025/11/2026-Annual-Meeting-Save-Date-1.png
END:VEVENT
END:VCALENDAR