BEGIN:VCALENDAR
VERSION:2.0
PRODID:-//Hunt Valley Business Forum - ECPv6.15.20//NONSGML v1.0//EN
CALSCALE:GREGORIAN
METHOD:PUBLISH
X-WR-CALNAME:Hunt Valley Business Forum
X-ORIGINAL-URL:https://www.hvbf.org
X-WR-CALDESC:Events for Hunt Valley Business Forum
REFRESH-INTERVAL;VALUE=DURATION:PT1H
X-Robots-Tag:noindex
X-PUBLISHED-TTL:PT1H
BEGIN:VTIMEZONE
TZID:America/New_York
BEGIN:DAYLIGHT
TZOFFSETFROM:-0500
TZOFFSETTO:-0400
TZNAME:EDT
DTSTART:20200308T070000
END:DAYLIGHT
BEGIN:STANDARD
TZOFFSETFROM:-0400
TZOFFSETTO:-0500
TZNAME:EST
DTSTART:20201101T060000
END:STANDARD
BEGIN:DAYLIGHT
TZOFFSETFROM:-0500
TZOFFSETTO:-0400
TZNAME:EDT
DTSTART:20210314T070000
END:DAYLIGHT
BEGIN:STANDARD
TZOFFSETFROM:-0400
TZOFFSETTO:-0500
TZNAME:EST
DTSTART:20211107T060000
END:STANDARD
BEGIN:DAYLIGHT
TZOFFSETFROM:-0500
TZOFFSETTO:-0400
TZNAME:EDT
DTSTART:20220313T070000
END:DAYLIGHT
BEGIN:STANDARD
TZOFFSETFROM:-0400
TZOFFSETTO:-0500
TZNAME:EST
DTSTART:20221106T060000
END:STANDARD
END:VTIMEZONE
BEGIN:VEVENT
DTSTART;TZID=America/New_York:20210602T080000
DTEND;TZID=America/New_York:20210602T090000
DTSTAMP:20260419T192326
CREATED:20210511T180839Z
LAST-MODIFIED:20210511T180839Z
UID:30000040-1622620800-1622624400@www.hvbf.org
SUMMARY:Coffee & Connections Virtual Networking
DESCRIPTION:Coffee & Connections Virtual Networking\n\n \n\n\nDate: \nWednesday\, June 2nd \nTime: \n8:00 am \nLocation: \nZOOM \n\nMembers: Free \n  \nNon-Members: $10 \n  \nPlease Register Online\nFor more information CONTACT US \n\n\n\n\n\n\n\n\n\nThank You to Our Platinum Sponsors\n\n\n\n\n \n\n\n \n\n\n \n\n\n\n\n \n\n\n \n\n\n \n\n\n\n\n  \nThank You to our Gold Sponsors\n \nThank You to Our Silver Sponsors
URL:https://www.hvbf.org/event/cc-networking-june/
LOCATION:zoom
END:VEVENT
END:VCALENDAR