BEGIN:VCALENDAR
VERSION:2.0
PRODID:-//Hunt Valley Business Forum - ECPv6.15.20//NONSGML v1.0//EN
CALSCALE:GREGORIAN
METHOD:PUBLISH
X-WR-CALNAME:Hunt Valley Business Forum
X-ORIGINAL-URL:https://www.hvbf.org
X-WR-CALDESC:Events for Hunt Valley Business Forum
REFRESH-INTERVAL;VALUE=DURATION:PT1H
X-Robots-Tag:noindex
X-PUBLISHED-TTL:PT1H
BEGIN:VTIMEZONE
TZID:America/New_York
BEGIN:DAYLIGHT
TZOFFSETFROM:-0500
TZOFFSETTO:-0400
TZNAME:EDT
DTSTART:20250309T070000
END:DAYLIGHT
BEGIN:STANDARD
TZOFFSETFROM:-0400
TZOFFSETTO:-0500
TZNAME:EST
DTSTART:20251102T060000
END:STANDARD
BEGIN:DAYLIGHT
TZOFFSETFROM:-0500
TZOFFSETTO:-0400
TZNAME:EDT
DTSTART:20260308T070000
END:DAYLIGHT
BEGIN:STANDARD
TZOFFSETFROM:-0400
TZOFFSETTO:-0500
TZNAME:EST
DTSTART:20261101T060000
END:STANDARD
BEGIN:DAYLIGHT
TZOFFSETFROM:-0500
TZOFFSETTO:-0400
TZNAME:EDT
DTSTART:20270314T070000
END:DAYLIGHT
BEGIN:STANDARD
TZOFFSETFROM:-0400
TZOFFSETTO:-0500
TZNAME:EST
DTSTART:20271107T060000
END:STANDARD
END:VTIMEZONE
BEGIN:VEVENT
DTSTART;TZID=America/New_York:20260618T113000
DTEND;TZID=America/New_York:20260618T133000
DTSTAMP:20260419T192314
CREATED:20260107T155429Z
LAST-MODIFIED:20260107T191855Z
UID:30000134-1781782200-1781789400@www.hvbf.org
SUMMARY:Save The Date: HVBF Business Day
DESCRIPTION:HUNT VALLEY BUSINESS FORUM – BUSINESS DAY\nDATE CONFIRMED:\nTHURSDAY\, JUNE 18\, 2026\n11:30 AM – 1:30 PM\nEXECUTIVE PLAZA COURTYARD\n11350 McCormick Road\nHunt Valley\, Maryland 21030\n*In the event of rain\, the event will be held in the Community Center Conference Room \n  \n\n\n\n\nNOTE: Registration is not yet open for this event.  \n\nIf you’re subscribed to HVBF’s email list\, you will receive an email when these details are made available and registration opens. \nNot sure if you’ve subscribed and want to receive updates about this and future HVBF events? \nClick Here to join HVBF’s Email List
URL:https://www.hvbf.org/event/hvbf-business-day-2026/
LOCATION:Executive Plaza\, 11350 McCormick Road\, Hunt Valley\, MD\, 21031\, United States
CATEGORIES:annual event
ATTACH;FMTTYPE=image/png:https://www.hvbf.org/wp-content/uploads/2026/01/Jun-2026-STD-HVBF-Biz-Day.png
END:VEVENT
BEGIN:VEVENT
DTSTART;TZID=America/New_York:20260623T083000
DTEND;TZID=America/New_York:20260623T103000
DTSTAMP:20260419T192314
CREATED:20260107T194634Z
LAST-MODIFIED:20260318T173703Z
UID:30000133-1782203400-1782210600@www.hvbf.org
SUMMARY:Members-Only Roundtable
DESCRIPTION:Members-Only Roundtable: Topic Coming Soon\nJune 23\, 2026\n8:30 – 10:30 AM\n  \n\n\n  \n\n\nIf you are a member of the Hunt Valley Business Forum and are interested in hosting or facilitating a Roundtable\, reach out to our Executive Director at director@hvbf.org or our Roundtables Chair\, John Power (JPower@hireveritas.com).  \nNOTE: The host and facilitator(s) for this event are yet to be announced.\nIf you’re subscribed to HVBF’s email list\, you will receive an email when these details are made available and registration opens. \nNot sure if you’ve subscribed and want to receive updates about this and future HVBF events? \nClick Here to join HVBF’s Email List
URL:https://www.hvbf.org/event/june-2026-operations-hr-roundtable/
LOCATION:MD
ATTACH;FMTTYPE=image/png:https://www.hvbf.org/wp-content/uploads/2026/01/Jun-2026-RT-Save-The-Date-1-1.png
END:VEVENT
END:VCALENDAR