BEGIN:VCALENDAR
VERSION:2.0
PRODID:-//Hunt Valley Business Forum - ECPv6.15.20//NONSGML v1.0//EN
CALSCALE:GREGORIAN
METHOD:PUBLISH
X-ORIGINAL-URL:https://www.hvbf.org
X-WR-CALDESC:Events for Hunt Valley Business Forum
REFRESH-INTERVAL;VALUE=DURATION:PT1H
X-Robots-Tag:noindex
X-PUBLISHED-TTL:PT1H
BEGIN:VTIMEZONE
TZID:America/New_York
BEGIN:DAYLIGHT
TZOFFSETFROM:-0500
TZOFFSETTO:-0400
TZNAME:EDT
DTSTART:20250309T070000
END:DAYLIGHT
BEGIN:STANDARD
TZOFFSETFROM:-0400
TZOFFSETTO:-0500
TZNAME:EST
DTSTART:20251102T060000
END:STANDARD
BEGIN:DAYLIGHT
TZOFFSETFROM:-0500
TZOFFSETTO:-0400
TZNAME:EDT
DTSTART:20260308T070000
END:DAYLIGHT
BEGIN:STANDARD
TZOFFSETFROM:-0400
TZOFFSETTO:-0500
TZNAME:EST
DTSTART:20261101T060000
END:STANDARD
BEGIN:DAYLIGHT
TZOFFSETFROM:-0500
TZOFFSETTO:-0400
TZNAME:EDT
DTSTART:20270314T070000
END:DAYLIGHT
BEGIN:STANDARD
TZOFFSETFROM:-0400
TZOFFSETTO:-0500
TZNAME:EST
DTSTART:20271107T060000
END:STANDARD
END:VTIMEZONE
BEGIN:VEVENT
DTSTART;TZID=America/New_York:20260714T080000
DTEND;TZID=America/New_York:20260714T170000
DTSTAMP:20260420T022215
CREATED:20260107T192039Z
LAST-MODIFIED:20260107T192039Z
UID:30000130-1784016000-1784048400@www.hvbf.org
SUMMARY:Build Your Network Happy Hour
DESCRIPTION:BUILD YOUR NETWORK HAPPY HOUR\nDATE PENDING\n4:30 – 6:30 PM\n  \n\n\n  \n\n\nNOTE: The sponsors\, location\, and speaker(s) for this event are yet to be announced.\nIf you’re subscribed to HVBF’s email list\, you will receive an email when these details are made available and registration opens. \nNot sure if you’ve subscribed and want to receive updates about this and future HVBF events? \nClick Here to join HVBF’s Email List
URL:https://www.hvbf.org/event/2026-build-your-network-hh/
LOCATION:MD
ATTACH;FMTTYPE=image/png:https://www.hvbf.org/wp-content/uploads/2026/01/Jul-2026-Save-the-Date.png
END:VEVENT
BEGIN:VEVENT
DTSTART;TZID=America/New_York:20260721T083000
DTEND;TZID=America/New_York:20260721T103000
DTSTAMP:20260420T022215
CREATED:20260107T194836Z
LAST-MODIFIED:20260310T152939Z
UID:30000135-1784622600-1784629800@www.hvbf.org
SUMMARY:Members-Only Roundtable
DESCRIPTION:Members-Only Roundtable: Topic Coming Soon\nDATE PENDING\n8:30 – 10:30 AM\n  \n\n\n  \n\n\nIf you are a member of the Hunt Valley Business Forum and are interested in hosting or facilitating a Roundtable\, reach out to our Executive Director at director@hvbf.org or our Roundtables Chair\, John Power (JPower@hireveritas.com).  \nNOTE: The host and facilitator(s) for this event are yet to be announced.\nIf you’re subscribed to HVBF’s email list\, you will receive an email when these details are made available and registration opens. \nNot sure if you’ve subscribed and want to receive updates about this and future HVBF events? \nClick Here to join HVBF’s Email List
URL:https://www.hvbf.org/event/july-2026-tech-innovation-roundtable/
LOCATION:MD
ATTACH;FMTTYPE=image/png:https://www.hvbf.org/wp-content/uploads/2026/01/Jul-2026-RT-Save-The-Date.png
END:VEVENT
END:VCALENDAR